Package: polyester Version: 1.34.0 Command: /home/biocbuild/bbs-3.16-bioc/R/bin/R CMD check --install=check:polyester.install-out.txt --library=/home/biocbuild/bbs-3.16-bioc/R/site-library --timings polyester_1.34.0.tar.gz StartedAt: 2023-04-10 23:00:30 -0400 (Mon, 10 Apr 2023) EndedAt: 2023-04-10 23:03:02 -0400 (Mon, 10 Apr 2023) EllapsedTime: 152.0 seconds RetCode: 0 Status: OK CheckDir: polyester.Rcheck Warnings: 0