Package: plotGrouper Version: 1.16.0 Command: chmod a+r plotGrouper -R && F:\biocbuild\bbs-3.16-bioc\R\bin\R.exe CMD build --keep-empty-dirs --no-resave-data plotGrouper StartedAt: 2023-04-10 20:40:09 -0400 (Mon, 10 Apr 2023) EndedAt: 2023-04-10 20:40:21 -0400 (Mon, 10 Apr 2023) EllapsedTime: 11.8 seconds RetCode: 0 Status: OK PackageFile: plotGrouper_1.16.0.tar.gz PackageFileSize: 704.2 KiB