Package: plotGrouper Version: 1.16.0 Command: /home/biocbuild/bbs-3.16-bioc/R/bin/R CMD check --install=check:plotGrouper.install-out.txt --library=/home/biocbuild/bbs-3.16-bioc/R/site-library --timings plotGrouper_1.16.0.tar.gz StartedAt: 2023-04-10 22:58:57 -0400 (Mon, 10 Apr 2023) EndedAt: 2023-04-10 23:00:30 -0400 (Mon, 10 Apr 2023) EllapsedTime: 92.5 seconds RetCode: 0 Status: OK CheckDir: plotGrouper.Rcheck Warnings: 0