Package: plier Version: 1.68.0 Command: chmod a+r plier -R && F:\biocbuild\bbs-3.16-bioc\R\bin\R.exe CMD build --keep-empty-dirs --no-resave-data plier StartedAt: 2023-04-10 20:40:00 -0400 (Mon, 10 Apr 2023) EndedAt: 2023-04-10 20:40:02 -0400 (Mon, 10 Apr 2023) EllapsedTime: 2.0 seconds RetCode: 0 Status: OK PackageFile: plier_1.68.0.tar.gz PackageFileSize: 20.3 KiB