Package: pkgDepTools Version: 1.64.0 Command: /Library/Frameworks/R.framework/Resources/bin/R CMD build --keep-empty-dirs --no-resave-data pkgDepTools StartedAt: 2023-04-10 17:31:30 -0400 (Mon, 10 Apr 2023) EndedAt: 2023-04-10 17:59:41 -0400 (Mon, 10 Apr 2023) EllapsedTime: 1691.3 seconds RetCode: 0 Status: OK PackageFile: pkgDepTools_1.64.0.tar.gz PackageFileSize: 243.7 KiB