Package: phyloseq Version: 1.42.0 Command: /home/biocbuild/bbs-3.16-bioc/R/bin/R CMD check --install=check:phyloseq.install-out.txt --library=/home/biocbuild/bbs-3.16-bioc/R/site-library --timings phyloseq_1.42.0.tar.gz StartedAt: 2023-04-10 22:53:04 -0400 (Mon, 10 Apr 2023) EndedAt: 2023-04-10 23:02:52 -0400 (Mon, 10 Apr 2023) EllapsedTime: 588.1 seconds RetCode: 0 Status: OK CheckDir: phyloseq.Rcheck Warnings: 0