Package: phyloseq Version: 1.42.0 Command: /home/biocbuild/bbs-3.16-bioc/R/bin/R CMD build --keep-empty-dirs --no-resave-data phyloseq StartedAt: 2023-04-10 17:40:23 -0400 (Mon, 10 Apr 2023) EndedAt: 2023-04-10 17:43:15 -0400 (Mon, 10 Apr 2023) EllapsedTime: 173.0 seconds RetCode: 0 Status: OK PackageFile: phyloseq_1.42.0.tar.gz PackageFileSize: 5.414 MiB