Package: phenoTest Version: 1.46.0 Command: F:\biocbuild\bbs-3.16-bioc\R\bin\R.exe CMD check --no-multiarch --install=check:phenoTest.install-out.txt --library=F:\biocbuild\bbs-3.16-bioc\R\library --no-vignettes --timings phenoTest_1.46.0.tar.gz StartedAt: 2023-04-11 04:29:15 -0400 (Tue, 11 Apr 2023) EndedAt: 2023-04-11 04:33:01 -0400 (Tue, 11 Apr 2023) EllapsedTime: 226.3 seconds RetCode: 0 Status: WARNINGS CheckDir: phenoTest.Rcheck Warnings: 1