Package: phenoTest Version: 1.46.0 Command: chmod a+r phenoTest -R && F:\biocbuild\bbs-3.16-bioc\R\bin\R.exe CMD build --keep-empty-dirs --no-resave-data phenoTest StartedAt: 2023-04-10 20:36:47 -0400 (Mon, 10 Apr 2023) EndedAt: 2023-04-10 20:38:20 -0400 (Mon, 10 Apr 2023) EllapsedTime: 93.1 seconds RetCode: 0 Status: OK PackageFile: phenoTest_1.46.0.tar.gz PackageFileSize: 1.099 MiB