Package: phenoTest Version: 1.46.0 Command: rm -rf phenoTest.buildbin-libdir && mkdir phenoTest.buildbin-libdir && F:\biocbuild\bbs-3.16-bioc\R\bin\R.exe CMD INSTALL --build --library=phenoTest.buildbin-libdir phenoTest_1.46.0.tar.gz StartedAt: 2023-04-11 08:29:54 -0400 (Tue, 11 Apr 2023) EndedAt: 2023-04-11 08:30:57 -0400 (Tue, 11 Apr 2023) EllapsedTime: 63.0 seconds RetCode: 0 Status: OK PackageFile: phenoTest_1.46.0.zip PackageFileSize: 1.756 MiB