Package: periodicDNA Version: 1.8.0 Command: rm -rf periodicDNA.buildbin-libdir && mkdir periodicDNA.buildbin-libdir && /Users/biocbuild/BBS/utils/build-universal.sh periodicDNA_1.8.0.tar.gz /Library/Frameworks/R.framework/Resources/bin/R periodicDNA.buildbin-libdir StartedAt: 2023-04-10 23:56:40 -0400 (Mon, 10 Apr 2023) EndedAt: 2023-04-10 23:57:23 -0400 (Mon, 10 Apr 2023) EllapsedTime: 43.0 seconds RetCode: 0 Status: OK PackageFile: periodicDNA_1.8.0.tgz PackageFileSize: 3.006 MiB