Package: paxtoolsr Version: 1.32.0 Command: chmod a+r paxtoolsr -R && F:\biocbuild\bbs-3.16-bioc\R\bin\R.exe CMD build --keep-empty-dirs --no-resave-data paxtoolsr StartedAt: 2023-04-10 20:30:21 -0400 (Mon, 10 Apr 2023) EndedAt: 2023-04-10 20:31:58 -0400 (Mon, 10 Apr 2023) EllapsedTime: 96.9 seconds RetCode: 0 Status: OK PackageFile: paxtoolsr_1.32.0.tar.gz PackageFileSize: 24.71 MiB