Package: paxtoolsr Version: 1.32.0 Command: /home/biocbuild/bbs-3.16-bioc/R/bin/R CMD INSTALL paxtoolsr StartedAt: 2023-04-10 15:26:28 -0400 (Mon, 10 Apr 2023) EndedAt: 2023-04-10 15:26:36 -0400 (Mon, 10 Apr 2023) EllapsedTime: 7.7 seconds RetCode: 0 Status: OK