Package: paxtoolsr Version: 1.32.0 Command: /home/biocbuild/bbs-3.16-bioc/R/bin/R CMD build --keep-empty-dirs --no-resave-data paxtoolsr StartedAt: 2023-04-10 17:36:21 -0400 (Mon, 10 Apr 2023) EndedAt: 2023-04-10 17:37:26 -0400 (Mon, 10 Apr 2023) EllapsedTime: 65.8 seconds RetCode: 0 Status: OK PackageFile: paxtoolsr_1.32.0.tar.gz PackageFileSize: 25.33 MiB