Package: paxtoolsr Version: 1.32.0 Command: /Library/Frameworks/R.framework/Resources/bin/R CMD INSTALL paxtoolsr StartedAt: 2023-04-10 15:20:32 -0400 (Mon, 10 Apr 2023) EndedAt: 2023-04-10 15:20:40 -0400 (Mon, 10 Apr 2023) EllapsedTime: 7.8 seconds RetCode: 0 Status: OK