Package: pathifier Version: 1.36.0 Command: rm -rf pathifier.buildbin-libdir && mkdir pathifier.buildbin-libdir && /Users/biocbuild/BBS/utils/build-universal.sh pathifier_1.36.0.tar.gz /Library/Frameworks/R.framework/Resources/bin/R pathifier.buildbin-libdir StartedAt: 2023-04-10 23:56:21 -0400 (Mon, 10 Apr 2023) EndedAt: 2023-04-10 23:56:25 -0400 (Mon, 10 Apr 2023) EllapsedTime: 4.6 seconds RetCode: 0 Status: OK PackageFile: pathifier_1.36.0.tgz PackageFileSize: 2.056 MiB