Package: pathRender Version: 1.66.0 Command: /home/biocbuild/bbs-3.16-bioc/R/bin/R CMD check --install=check:pathRender.install-out.txt --library=/home/biocbuild/bbs-3.16-bioc/R/site-library --timings pathRender_1.66.0.tar.gz StartedAt: 2023-04-10 22:43:09 -0400 (Mon, 10 Apr 2023) EndedAt: 2023-04-10 22:47:28 -0400 (Mon, 10 Apr 2023) EllapsedTime: 258.7 seconds RetCode: 0 Status: OK CheckDir: pathRender.Rcheck Warnings: 0