Package: parody Version: 1.56.0 Command: F:\biocbuild\bbs-3.16-bioc\R\bin\R.exe CMD INSTALL parody StartedAt: 2023-04-10 15:34:06 -0400 (Mon, 10 Apr 2023) EndedAt: 2023-04-10 15:34:31 -0400 (Mon, 10 Apr 2023) EllapsedTime: 25.0 seconds RetCode: 0 Status: OK