Package: panelcn.mops Version: 1.20.0 Command: chmod a+r panelcn.mops -R && F:\biocbuild\bbs-3.16-bioc\R\bin\R.exe CMD build --keep-empty-dirs --no-resave-data panelcn.mops StartedAt: 2023-04-10 20:27:35 -0400 (Mon, 10 Apr 2023) EndedAt: 2023-04-10 20:28:08 -0400 (Mon, 10 Apr 2023) EllapsedTime: 33.1 seconds RetCode: 0 Status: OK PackageFile: panelcn.mops_1.20.0.tar.gz PackageFileSize: 569.6 KiB