Package: panelcn.mops Version: 1.20.0 Command: rm -rf panelcn.mops.buildbin-libdir && mkdir panelcn.mops.buildbin-libdir && F:\biocbuild\bbs-3.16-bioc\R\bin\R.exe CMD INSTALL --build --library=panelcn.mops.buildbin-libdir panelcn.mops_1.20.0.tar.gz StartedAt: 2023-04-11 08:28:18 -0400 (Tue, 11 Apr 2023) EndedAt: 2023-04-11 08:28:43 -0400 (Tue, 11 Apr 2023) EllapsedTime: 24.8 seconds RetCode: 0 Status: OK PackageFile: panelcn.mops_1.20.0.zip PackageFileSize: 435.3 KiB