Package: panelcn.mops Version: 1.20.0 Command: /home/biocbuild/bbs-3.16-bioc/R/bin/R CMD INSTALL panelcn.mops StartedAt: 2023-04-10 15:29:06 -0400 (Mon, 10 Apr 2023) EndedAt: 2023-04-10 15:29:24 -0400 (Mon, 10 Apr 2023) EllapsedTime: 18.2 seconds RetCode: 0 Status: OK