Package: omicsPrint Version: 1.18.0 Command: /home/biocbuild/bbs-3.16-bioc/R/bin/R CMD INSTALL omicsPrint StartedAt: 2023-04-10 15:20:08 -0400 (Mon, 10 Apr 2023) EndedAt: 2023-04-10 15:20:38 -0400 (Mon, 10 Apr 2023) EllapsedTime: 29.7 seconds RetCode: 0 Status: OK