Package: omicsPrint Version: 1.18.0 Command: /home/biocbuild/bbs-3.16-bioc/R/bin/R CMD check --install=check:omicsPrint.install-out.txt --library=/home/biocbuild/bbs-3.16-bioc/R/site-library --timings omicsPrint_1.18.0.tar.gz StartedAt: 2023-04-10 22:27:49 -0400 (Mon, 10 Apr 2023) EndedAt: 2023-04-10 22:31:10 -0400 (Mon, 10 Apr 2023) EllapsedTime: 200.7 seconds RetCode: 0 Status: WARNINGS CheckDir: omicsPrint.Rcheck Warnings: 1