Package: omicade4 Version: 1.38.0 Command: /Library/Frameworks/R.framework/Resources/bin/R CMD check --install=check:omicade4.install-out.txt --library=/Library/Frameworks/R.framework/Resources/library --no-vignettes --timings omicade4_1.38.0.tar.gz StartedAt: 2023-04-10 21:36:03 -0400 (Mon, 10 Apr 2023) EndedAt: 2023-04-10 21:38:13 -0400 (Mon, 10 Apr 2023) EllapsedTime: 130.2 seconds RetCode: 0 Status: OK CheckDir: omicade4.Rcheck Warnings: 0