Package: npGSEA Version: 1.34.0 Command: F:\biocbuild\bbs-3.16-bioc\R\bin\R.exe CMD check --no-multiarch --install=check:npGSEA.install-out.txt --library=F:\biocbuild\bbs-3.16-bioc\R\library --no-vignettes --timings npGSEA_1.34.0.tar.gz StartedAt: 2023-04-11 04:01:00 -0400 (Tue, 11 Apr 2023) EndedAt: 2023-04-11 04:02:58 -0400 (Tue, 11 Apr 2023) EllapsedTime: 118.2 seconds RetCode: 0 Status: OK CheckDir: npGSEA.Rcheck Warnings: 0