Package: npGSEA Version: 1.34.0 Command: chmod a+r npGSEA -R && F:\biocbuild\bbs-3.16-bioc\R\bin\R.exe CMD build --keep-empty-dirs --no-resave-data npGSEA StartedAt: 2023-04-10 20:13:14 -0400 (Mon, 10 Apr 2023) EndedAt: 2023-04-10 20:13:55 -0400 (Mon, 10 Apr 2023) EllapsedTime: 40.4 seconds RetCode: 0 Status: OK PackageFile: npGSEA_1.34.0.tar.gz PackageFileSize: 293.6 KiB