Package: npGSEA Version: 1.34.0 Command: rm -rf npGSEA.buildbin-libdir && mkdir npGSEA.buildbin-libdir && F:\biocbuild\bbs-3.16-bioc\R\bin\R.exe CMD INSTALL --build --library=npGSEA.buildbin-libdir npGSEA_1.34.0.tar.gz StartedAt: 2023-04-11 08:25:23 -0400 (Tue, 11 Apr 2023) EndedAt: 2023-04-11 08:25:52 -0400 (Tue, 11 Apr 2023) EllapsedTime: 29.2 seconds RetCode: 0 Status: OK PackageFile: npGSEA_1.34.0.zip PackageFileSize: 627.5 KiB