Package: nondetects Version: 2.28.0 Command: /home/biocbuild/bbs-3.16-bioc/R/bin/R CMD check --install=check:nondetects.install-out.txt --library=/home/biocbuild/bbs-3.16-bioc/R/site-library --timings nondetects_2.28.0.tar.gz StartedAt: 2023-04-10 22:22:00 -0400 (Mon, 10 Apr 2023) EndedAt: 2023-04-10 22:30:40 -0400 (Mon, 10 Apr 2023) EllapsedTime: 520.2 seconds RetCode: 0 Status: OK CheckDir: nondetects.Rcheck Warnings: 0