Package: nondetects Version: 2.28.0 Command: /Library/Frameworks/R.framework/Resources/bin/R CMD check --install=check:nondetects.install-out.txt --library=/Library/Frameworks/R.framework/Resources/library --no-vignettes --timings nondetects_2.28.0.tar.gz StartedAt: 2023-04-10 21:32:52 -0400 (Mon, 10 Apr 2023) EndedAt: 2023-04-10 21:38:35 -0400 (Mon, 10 Apr 2023) EllapsedTime: 342.8 seconds RetCode: 0 Status: OK CheckDir: nondetects.Rcheck Warnings: 0