Package: netresponse Version: 1.58.0 Command: rm -rf netresponse.buildbin-libdir && mkdir netresponse.buildbin-libdir && /Users/biocbuild/BBS/utils/build-universal.sh netresponse_1.58.0.tar.gz /Library/Frameworks/R.framework/Resources/bin/R netresponse.buildbin-libdir StartedAt: 2023-04-10 23:54:41 -0400 (Mon, 10 Apr 2023) EndedAt: 2023-04-10 23:54:55 -0400 (Mon, 10 Apr 2023) EllapsedTime: 14.7 seconds RetCode: 0 Status: OK PackageFile: netresponse_1.58.0.tgz PackageFileSize: 1.396 MiB