Package: netprioR Version: 1.24.0 Command: F:\biocbuild\bbs-3.16-bioc\R\bin\R.exe CMD check --no-multiarch --install=check:netprioR.install-out.txt --library=F:\biocbuild\bbs-3.16-bioc\R\library --no-vignettes --timings netprioR_1.24.0.tar.gz StartedAt: 2023-04-11 03:57:15 -0400 (Tue, 11 Apr 2023) EndedAt: 2023-04-11 03:58:30 -0400 (Tue, 11 Apr 2023) EllapsedTime: 75.1 seconds RetCode: 0 Status: OK CheckDir: netprioR.Rcheck Warnings: 0