Package: netprioR Version: 1.24.0 Command: /Library/Frameworks/R.framework/Resources/bin/R CMD INSTALL netprioR StartedAt: 2023-04-10 15:08:03 -0400 (Mon, 10 Apr 2023) EndedAt: 2023-04-10 15:08:23 -0400 (Mon, 10 Apr 2023) EllapsedTime: 19.6 seconds RetCode: 0 Status: OK