Package: netprioR Version: 1.23.0 Command: rm -rf netprioR.buildbin-libdir && mkdir netprioR.buildbin-libdir && /Users/biocbuild/BBS/utils/build-universal.sh netprioR_1.23.0.tar.gz /Library/Frameworks/R.framework/Resources/bin/R netprioR.buildbin-libdir StartedAt: 2022-07-07 08:36:26 -0400 (Thu, 07 Jul 2022) EndedAt: 2022-07-07 08:36:44 -0400 (Thu, 07 Jul 2022) EllapsedTime: 18.5 seconds RetCode: 0 Status: OK PackageFile: netprioR_1.23.0.tgz PackageFileSize: 681.1 KiB