Package: nethet Version: 1.30.0 Command: rm -rf nethet.buildbin-libdir && mkdir nethet.buildbin-libdir && F:\biocbuild\bbs-3.16-bioc\R\bin\R.exe CMD INSTALL --build --library=nethet.buildbin-libdir nethet_1.30.0.tar.gz StartedAt: 2023-04-11 08:24:40 -0400 (Tue, 11 Apr 2023) EndedAt: 2023-04-11 08:25:08 -0400 (Tue, 11 Apr 2023) EllapsedTime: 28.5 seconds RetCode: 0 Status: OK PackageFile: nethet_1.30.0.zip PackageFileSize: 1.016 MiB