Package: nethet Version: 1.30.0 Command: rm -rf nethet.buildbin-libdir && mkdir nethet.buildbin-libdir && /Users/biocbuild/BBS/utils/build-universal.sh nethet_1.30.0.tar.gz /Library/Frameworks/R.framework/Resources/bin/R nethet.buildbin-libdir StartedAt: 2023-04-10 23:54:35 -0400 (Mon, 10 Apr 2023) EndedAt: 2023-04-10 23:54:55 -0400 (Mon, 10 Apr 2023) EllapsedTime: 20.3 seconds RetCode: 0 Status: OK PackageFile: nethet_1.30.0.tgz PackageFileSize: 1.011 MiB