Package: netboost Version: 2.6.1 Command: /home/biocbuild/bbs-3.16-bioc/R/bin/R CMD INSTALL netboost StartedAt: 2023-04-10 15:28:11 -0400 (Mon, 10 Apr 2023) EndedAt: 2023-04-10 15:29:15 -0400 (Mon, 10 Apr 2023) EllapsedTime: 64.5 seconds RetCode: 0 Status: OK