Package: nempi Version: 1.6.0 Command: /home/biocbuild/bbs-3.16-bioc/R/bin/R CMD build --keep-empty-dirs --no-resave-data nempi StartedAt: 2023-04-10 17:24:29 -0400 (Mon, 10 Apr 2023) EndedAt: 2023-04-10 17:25:13 -0400 (Mon, 10 Apr 2023) EllapsedTime: 44.2 seconds RetCode: 0 Status: OK PackageFile: nempi_1.6.0.tar.gz PackageFileSize: 504.8 KiB