Package: multtest Version: 2.54.0 Command: F:\biocbuild\bbs-3.16-bioc\R\bin\R.exe CMD INSTALL multtest StartedAt: 2023-04-10 15:36:43 -0400 (Mon, 10 Apr 2023) EndedAt: 2023-04-10 15:37:15 -0400 (Mon, 10 Apr 2023) EllapsedTime: 32.3 seconds RetCode: 0 Status: OK