Package: multicrispr Version: 1.8.0 Command: /home/biocbuild/bbs-3.16-bioc/R/bin/R CMD INSTALL multicrispr StartedAt: 2023-04-10 15:55:18 -0400 (Mon, 10 Apr 2023) EndedAt: 2023-04-10 15:56:00 -0400 (Mon, 10 Apr 2023) EllapsedTime: 42.3 seconds RetCode: 0 Status: OK