Package: multicrispr Version: 1.8.0 Command: /Library/Frameworks/R.framework/Resources/bin/R CMD INSTALL multicrispr StartedAt: 2023-04-10 15:38:48 -0400 (Mon, 10 Apr 2023) EndedAt: 2023-04-10 15:39:30 -0400 (Mon, 10 Apr 2023) EllapsedTime: 41.3 seconds RetCode: 0 Status: OK