Package: multiOmicsViz Version: 1.22.0 Command: rm -rf multiOmicsViz.buildbin-libdir && mkdir multiOmicsViz.buildbin-libdir && F:\biocbuild\bbs-3.16-bioc\R\bin\R.exe CMD INSTALL --build --library=multiOmicsViz.buildbin-libdir multiOmicsViz_1.22.0.tar.gz StartedAt: 2023-04-11 08:22:48 -0400 (Tue, 11 Apr 2023) EndedAt: 2023-04-11 08:23:15 -0400 (Tue, 11 Apr 2023) EllapsedTime: 27.0 seconds RetCode: 0 Status: OK PackageFile: multiOmicsViz_1.22.0.zip PackageFileSize: 1.484 MiB