Package: msmsEDA Version: 1.36.0 Command: rm -rf msmsEDA.buildbin-libdir && mkdir msmsEDA.buildbin-libdir && F:\biocbuild\bbs-3.16-bioc\R\bin\R.exe CMD INSTALL --build --library=msmsEDA.buildbin-libdir msmsEDA_1.36.0.tar.gz StartedAt: 2023-04-11 08:21:35 -0400 (Tue, 11 Apr 2023) EndedAt: 2023-04-11 08:21:57 -0400 (Tue, 11 Apr 2023) EllapsedTime: 22.4 seconds RetCode: 0 Status: OK PackageFile: msmsEDA_1.36.0.zip PackageFileSize: 394.2 KiB