Package: mosbi Version: 1.3.0 Command: /Library/Frameworks/R.framework/Resources/bin/R CMD INSTALL mosbi StartedAt: 2022-07-10 17:36:25 -0400 (Sun, 10 Jul 2022) EndedAt: 2022-07-10 17:39:35 -0400 (Sun, 10 Jul 2022) EllapsedTime: 189.9 seconds RetCode: 0 Status: OK