Package: mnem Version: 1.14.0 Command: F:\biocbuild\bbs-3.16-bioc\R\bin\R.exe CMD check --no-multiarch --install=check:mnem.install-out.txt --library=F:\biocbuild\bbs-3.16-bioc\R\library --no-vignettes --timings mnem_1.14.0.tar.gz StartedAt: 2023-04-11 03:31:07 -0400 (Tue, 11 Apr 2023) EndedAt: 2023-04-11 03:33:29 -0400 (Tue, 11 Apr 2023) EllapsedTime: 142.0 seconds RetCode: 0 Status: OK CheckDir: mnem.Rcheck Warnings: 0