Package: mnem Version: 1.14.0 Command: rm -rf mnem.buildbin-libdir && mkdir mnem.buildbin-libdir && F:\biocbuild\bbs-3.16-bioc\R\bin\R.exe CMD INSTALL --build --library=mnem.buildbin-libdir mnem_1.14.0.tar.gz StartedAt: 2023-04-11 08:20:02 -0400 (Tue, 11 Apr 2023) EndedAt: 2023-04-11 08:20:46 -0400 (Tue, 11 Apr 2023) EllapsedTime: 44.4 seconds RetCode: 0 Status: OK PackageFile: mnem_1.14.0.zip PackageFileSize: 3.637 MiB