Package: mixOmics Version: 6.22.0 Command: rm -rf mixOmics.buildbin-libdir && mkdir mixOmics.buildbin-libdir && F:\biocbuild\bbs-3.16-bioc\R\bin\R.exe CMD INSTALL --build --library=mixOmics.buildbin-libdir mixOmics_6.22.0.tar.gz StartedAt: 2023-04-11 08:19:50 -0400 (Tue, 11 Apr 2023) EndedAt: 2023-04-11 08:20:39 -0400 (Tue, 11 Apr 2023) EllapsedTime: 49.5 seconds RetCode: 0 Status: OK PackageFile: mixOmics_6.22.0.zip PackageFileSize: 7.626 MiB