Package: mixOmics Version: 6.22.0 Command: rm -rf mixOmics.buildbin-libdir && mkdir mixOmics.buildbin-libdir && /Users/biocbuild/BBS/utils/build-universal.sh mixOmics_6.22.0.tar.gz /Library/Frameworks/R.framework/Resources/bin/R mixOmics.buildbin-libdir StartedAt: 2023-04-10 23:52:36 -0400 (Mon, 10 Apr 2023) EndedAt: 2023-04-10 23:53:16 -0400 (Mon, 10 Apr 2023) EllapsedTime: 39.7 seconds RetCode: 0 Status: OK PackageFile: mixOmics_6.22.0.tgz PackageFileSize: 9.7 MiB