Package: mitoClone2 Version: 1.4.0 Command: chmod a+r mitoClone2 -R && F:\biocbuild\bbs-3.16-bioc\R\bin\R.exe CMD build --keep-empty-dirs --no-resave-data mitoClone2 StartedAt: 2023-04-10 19:53:38 -0400 (Mon, 10 Apr 2023) EndedAt: 2023-04-10 19:59:14 -0400 (Mon, 10 Apr 2023) EllapsedTime: 336.5 seconds RetCode: 0 Status: OK PackageFile: mitoClone2_1.4.0.tar.gz PackageFileSize: 1.236 MiB