Package: miRspongeR Version: 2.1.0 Command: /Library/Frameworks/R.framework/Resources/bin/R CMD INSTALL miRspongeR StartedAt: 2022-07-10 19:29:19 -0400 (Sun, 10 Jul 2022) EndedAt: 2022-07-10 19:29:54 -0400 (Sun, 10 Jul 2022) EllapsedTime: 35.5 seconds RetCode: 1 Status: ERROR