Package: miRNAmeConverter Version: 1.26.0 Command: F:\biocbuild\bbs-3.16-bioc\R\bin\R.exe CMD check --no-multiarch --install=check:miRNAmeConverter.install-out.txt --library=F:\biocbuild\bbs-3.16-bioc\R\library --no-vignettes --timings miRNAmeConverter_1.26.0.tar.gz StartedAt: 2023-04-11 03:26:40 -0400 (Tue, 11 Apr 2023) EndedAt: 2023-04-11 03:28:30 -0400 (Tue, 11 Apr 2023) EllapsedTime: 109.3 seconds RetCode: 0 Status: WARNINGS CheckDir: miRNAmeConverter.Rcheck Warnings: 1